BEGIN:VCALENDAR
VERSION:2.0
PRODID:-//Royal Akarana Yacht Club - ECPv4.6.9//NONSGML v1.0//EN
CALSCALE:GREGORIAN
METHOD:PUBLISH
X-WR-CALNAME:Royal Akarana Yacht Club
X-ORIGINAL-URL:https://rayc.co.nz
X-WR-CALDESC:Events for Royal Akarana Yacht Club
BEGIN:VEVENT
DTSTART;VALUE=DATE:20180106
DTEND;VALUE=DATE:20180114
DTSTAMP:20180123T024115
CREATED:20171211T200900Z
LAST-MODIFIED:20171211T200900Z
UID:24947-1515196800-1515887999@rayc.co.nz
SUMMARY:58th 12' Skiff Interdominions
DESCRIPTION:More information: www.rayc.co.nz/12footers \n
URL:https://rayc.co.nz/event/58th-12-skiff-interdominions/
LOCATION:8-10 Tamaki Drive\, Okahu Bay\, Auckland\, 1071\, New Zealand
GEO:-36.8527178;174.8142727
X-APPLE-STRUCTURED-LOCATION;VALUE=URI;X-ADDRESS=8-10 Tamaki Drive Okahu Bay Auckland 1071 New Zealand;X-APPLE-RADIUS=500;X-TITLE=8-10 Tamaki Drive:geo:174.8142727,-36.8527178
CATEGORIES:12' Skiffs,Fleets
ATTACH;FMTTYPE=image/jpeg:https://rayc.co.nz/wp-content/uploads/2011/11/12skiffs.jpg
END:VEVENT
BEGIN:VEVENT
DTSTART;TZID=Pacific/Auckland:20180115T083000
DTEND;TZID=Pacific/Auckland:20180119T170000
DTSTAMP:20180123T024115
CREATED:20171127T010454Z
LAST-MODIFIED:20171127T010454Z
UID:24434-1516005000-1516381200@rayc.co.nz
SUMMARY:School Holiday Program
DESCRIPTION:What are your kids doing these school holidays?\nGet them out of the house – and put them on a boat!\nRoyal Akarana Yacht Club offers school holiday programs where kids are able to spend a whole day or multiple days trying out engaging water-based activities. \nThese holiday programs are run as “Sail & Play” style events. This means that half the day is spent sailing while the other half is dedicated to other water-based activities. \n
URL:https://rayc.co.nz/event/school-holiday-program-5/
LOCATION:8-10 Tamaki Drive\, Okahu Bay\, Auckland\, 1071\, New Zealand
GEO:-36.8527178;174.8142727
X-APPLE-STRUCTURED-LOCATION;VALUE=URI;X-ADDRESS=8-10 Tamaki Drive Okahu Bay Auckland 1071 New Zealand;X-APPLE-RADIUS=500;X-TITLE=8-10 Tamaki Drive:geo:174.8142727,-36.8527178
CATEGORIES:Holiday Program,Sailing Academy
ATTACH;FMTTYPE=image/jpeg:https://rayc.co.nz/wp-content/uploads/2017/11/schoolholiday500x500.jpg
END:VEVENT
BEGIN:VEVENT
DTSTART;TZID=Pacific/Auckland:20180115T083000
DTEND;TZID=Pacific/Auckland:20180119T170000
DTSTAMP:20180123T024115
CREATED:20171127T010822Z
LAST-MODIFIED:20171127T010908Z
UID:24438-1516005000-1516381200@rayc.co.nz
SUMMARY:Opti Level 1 - Fast Track
DESCRIPTION:Fast track your way through the Optimist courses\nThe Optimist Fast Track program means you complete an entire level condensed into five days of training. \nRun during the school holidays\, this fast tracked course will give students the chance to progress faster. \nThe five day intensive course must be booked and paid in advance. There are no day options available for the course. \n
URL:https://rayc.co.nz/event/opti-level-1-fast-track-january-18/
LOCATION:8-10 Tamaki Drive\, Okahu Bay\, Auckland\, 1071\, New Zealand
GEO:-36.8527178;174.8142727
X-APPLE-STRUCTURED-LOCATION;VALUE=URI;X-ADDRESS=8-10 Tamaki Drive Okahu Bay Auckland 1071 New Zealand;X-APPLE-RADIUS=500;X-TITLE=8-10 Tamaki Drive:geo:174.8142727,-36.8527178
CATEGORIES:Opti Fast Track,Sailing Academy
ATTACH;FMTTYPE=image/jpeg:https://rayc.co.nz/wp-content/uploads/2017/11/opti1fasttrack500x500.jpg
END:VEVENT
BEGIN:VEVENT
DTSTART;VALUE=DATE:20180121
DTEND;VALUE=DATE:20180122
DTSTAMP:20180123T024115
CREATED:20170509T094617Z
LAST-MODIFIED:20170903T044532Z
UID:21341-1516492800-1516579199@rayc.co.nz
SUMMARY:Akarana Series
DESCRIPTION:.fusion-button.button-1 .fusion-button-text\, .fusion-button.button-1 i {color:#105378;}.fusion-button.button-1 {border-width:2px;border-color:#105378;}.fusion-button.button-1 .fusion-button-icon-divider{border-color:#105378;}.fusion-button.button-1:hover .fusion-button-text\, .fusion-button.button-1:hover i\,.fusion-button.button-1:focus .fusion-button-text\, .fusion-button.button-1:focus i\,.fusion-button.button-1:active .fusion-button-text\, .fusion-button.button-1:active{color:#f44336;}.fusion-button.button-1:hover\, .fusion-button.button-1:focus\, .fusion-button.button-1:active{border-width:2px;border-color:#f44336;}.fusion-button.button-1:hover .fusion-button-icon-divider\, .fusion-button.button-1:hover .fusion-button-icon-divider\, .fusion-button.button-1:active .fusion-button-icon-divider{border-color:#f44336;}.fusion-button.button-1{background: rgba(144\,201\,232\,0);\n							background-image: -webkit-gradient( linear\, left bottom\, left top\, from( rgba(90\,171\,214\,0) )\, to( rgba(144\,201\,232\,0) ) );\n							background-image: -webkit-linear-gradient( bottom\, rgba(90\,171\,214\,0)\, rgba(144\,201\,232\,0) );\n							background-image:   -moz-linear-gradient( bottom\, rgba(90\,171\,214\,0)\, rgba(144\,201\,232\,0) );\n							background-image:     -o-linear-gradient( bottom\, rgba(90\,171\,214\,0)\, rgba(144\,201\,232\,0) );\n							background-image: linear-gradient( to top\, rgba(90\,171\,214\,0)\, rgba(144\,201\,232\,0) );}.fusion-button.button-1:hover\,.button-1:focus\,.fusion-button.button-1:active{background: rgba(90\,171\,214\,0);\n							background-image: -webkit-gradient( linear\, left bottom\, left top\, from( rgba(144\,201\,232\,0) )\, to( rgba(90\,171\,214\,0) ) );\n							background-image: -webkit-linear-gradient( bottom\, rgba(144\,201\,232\,0)\, rgba(90\,171\,214\,0) );\n							background-image:   -moz-linear-gradient( bottom\, rgba(144\,201\,232\,0)\, rgba(90\,171\,214\,0) );\n							background-image:     -o-linear-gradient( bottom\, rgba(144\,201\,232\,0)\, rgba(90\,171\,214\,0) );\n							background-image: linear-gradient( to top\, rgba(144\,201\,232\,0)\, rgba(90\,171\,214\,0) );}.fusion-button.button-1{width:auto;}Visit Microsite\n
URL:https://rayc.co.nz/event/akarana-series-12/2018-01-21/
LOCATION:8-10 Tamaki Drive\, Okahu Bay\, Auckland\, 1071\, New Zealand
GEO:-36.8527178;174.8142727
X-APPLE-STRUCTURED-LOCATION;VALUE=URI;X-ADDRESS=8-10 Tamaki Drive Okahu Bay Auckland 1071 New Zealand;X-APPLE-RADIUS=500;X-TITLE=8-10 Tamaki Drive:geo:174.8142727,-36.8527178
CATEGORIES:Feva,Fleets,Flying 15,M-Class,Mixed Skiffs,Optimist,Racing - Off the Beach,Starling,Summer Series
ATTACH;FMTTYPE=image/jpeg:https://rayc.co.nz/wp-content/uploads/2016/06/akaranaseries500x500.jpg
END:VEVENT
BEGIN:VEVENT
DTSTART;VALUE=DATE:20180121
DTEND;VALUE=DATE:20180122
DTSTAMP:20180123T024115
CREATED:20170510T015509Z
LAST-MODIFIED:20170510T015509Z
UID:22333-1516492800-1516579199@rayc.co.nz
SUMMARY:12' Skiff Club Racing
DESCRIPTION:.fusion-button.button-2 .fusion-button-text\, .fusion-button.button-2 i {color:#105378;}.fusion-button.button-2 {border-width:2px;border-color:#105378;}.fusion-button.button-2 .fusion-button-icon-divider{border-color:#105378;}.fusion-button.button-2:hover .fusion-button-text\, .fusion-button.button-2:hover i\,.fusion-button.button-2:focus .fusion-button-text\, .fusion-button.button-2:focus i\,.fusion-button.button-2:active .fusion-button-text\, .fusion-button.button-2:active{color:#f44336;}.fusion-button.button-2:hover\, .fusion-button.button-2:focus\, .fusion-button.button-2:active{border-width:2px;border-color:#f44336;}.fusion-button.button-2:hover .fusion-button-icon-divider\, .fusion-button.button-2:hover .fusion-button-icon-divider\, .fusion-button.button-2:active .fusion-button-icon-divider{border-color:#f44336;}.fusion-button.button-2{background: rgba(144\,201\,232\,0);\n							background-image: -webkit-gradient( linear\, left bottom\, left top\, from( rgba(90\,171\,214\,0) )\, to( rgba(144\,201\,232\,0) ) );\n							background-image: -webkit-linear-gradient( bottom\, rgba(90\,171\,214\,0)\, rgba(144\,201\,232\,0) );\n							background-image:   -moz-linear-gradient( bottom\, rgba(90\,171\,214\,0)\, rgba(144\,201\,232\,0) );\n							background-image:     -o-linear-gradient( bottom\, rgba(90\,171\,214\,0)\, rgba(144\,201\,232\,0) );\n							background-image: linear-gradient( to top\, rgba(90\,171\,214\,0)\, rgba(144\,201\,232\,0) );}.fusion-button.button-2:hover\,.button-2:focus\,.fusion-button.button-2:active{background: rgba(90\,171\,214\,0);\n							background-image: -webkit-gradient( linear\, left bottom\, left top\, from( rgba(144\,201\,232\,0) )\, to( rgba(90\,171\,214\,0) ) );\n							background-image: -webkit-linear-gradient( bottom\, rgba(144\,201\,232\,0)\, rgba(90\,171\,214\,0) );\n							background-image:   -moz-linear-gradient( bottom\, rgba(144\,201\,232\,0)\, rgba(90\,171\,214\,0) );\n							background-image:     -o-linear-gradient( bottom\, rgba(144\,201\,232\,0)\, rgba(90\,171\,214\,0) );\n							background-image: linear-gradient( to top\, rgba(144\,201\,232\,0)\, rgba(90\,171\,214\,0) );}.fusion-button.button-2{width:auto;}Visit Microsite\n
URL:https://rayc.co.nz/event/skiff-club-racing/2018-01-21/
LOCATION:8-10 Tamaki Drive\, Okahu Bay\, Auckland\, 1071\, New Zealand
GEO:-36.8527178;174.8142727
X-APPLE-STRUCTURED-LOCATION;VALUE=URI;X-ADDRESS=8-10 Tamaki Drive Okahu Bay Auckland 1071 New Zealand;X-APPLE-RADIUS=500;X-TITLE=8-10 Tamaki Drive:geo:174.8142727,-36.8527178
CATEGORIES:12' Skiffs,Fleets
ATTACH;FMTTYPE=image/jpeg:https://rayc.co.nz/wp-content/uploads/2011/11/12skiffs.jpg
END:VEVENT
BEGIN:VEVENT
DTSTART;TZID=Pacific/Auckland:20180121T113000
DTEND;TZID=Pacific/Auckland:20180121T170000
DTSTAMP:20180123T024115
CREATED:20170903T042501Z
LAST-MODIFIED:20170903T042501Z
UID:22323-1516534200-1516554000@rayc.co.nz
SUMMARY:18′ Skiff Club Racing
DESCRIPTION:.fusion-button.button-3 .fusion-button-text\, .fusion-button.button-3 i {color:#105378;}.fusion-button.button-3 {border-width:2px;border-color:#105378;}.fusion-button.button-3 .fusion-button-icon-divider{border-color:#105378;}.fusion-button.button-3:hover .fusion-button-text\, .fusion-button.button-3:hover i\,.fusion-button.button-3:focus .fusion-button-text\, .fusion-button.button-3:focus i\,.fusion-button.button-3:active .fusion-button-text\, .fusion-button.button-3:active{color:#f44336;}.fusion-button.button-3:hover\, .fusion-button.button-3:focus\, .fusion-button.button-3:active{border-width:2px;border-color:#f44336;}.fusion-button.button-3:hover .fusion-button-icon-divider\, .fusion-button.button-3:hover .fusion-button-icon-divider\, .fusion-button.button-3:active .fusion-button-icon-divider{border-color:#f44336;}.fusion-button.button-3{background: rgba(144\,201\,232\,0);\n							background-image: -webkit-gradient( linear\, left bottom\, left top\, from( rgba(90\,171\,214\,0) )\, to( rgba(144\,201\,232\,0) ) );\n							background-image: -webkit-linear-gradient( bottom\, rgba(90\,171\,214\,0)\, rgba(144\,201\,232\,0) );\n							background-image:   -moz-linear-gradient( bottom\, rgba(90\,171\,214\,0)\, rgba(144\,201\,232\,0) );\n							background-image:     -o-linear-gradient( bottom\, rgba(90\,171\,214\,0)\, rgba(144\,201\,232\,0) );\n							background-image: linear-gradient( to top\, rgba(90\,171\,214\,0)\, rgba(144\,201\,232\,0) );}.fusion-button.button-3:hover\,.button-3:focus\,.fusion-button.button-3:active{background: rgba(90\,171\,214\,0);\n							background-image: -webkit-gradient( linear\, left bottom\, left top\, from( rgba(144\,201\,232\,0) )\, to( rgba(90\,171\,214\,0) ) );\n							background-image: -webkit-linear-gradient( bottom\, rgba(144\,201\,232\,0)\, rgba(90\,171\,214\,0) );\n							background-image:   -moz-linear-gradient( bottom\, rgba(144\,201\,232\,0)\, rgba(90\,171\,214\,0) );\n							background-image:     -o-linear-gradient( bottom\, rgba(144\,201\,232\,0)\, rgba(90\,171\,214\,0) );\n							background-image: linear-gradient( to top\, rgba(144\,201\,232\,0)\, rgba(90\,171\,214\,0) );}.fusion-button.button-3{width:auto;}Visit Microsite\n
URL:https://rayc.co.nz/event/18%e2%80%b2-skiff-club-racing/2018-01-21/
LOCATION:8-10 Tamaki Drive\, Okahu Bay\, Auckland\, 1071\, New Zealand
GEO:-36.8527178;174.8142727
X-APPLE-STRUCTURED-LOCATION;VALUE=URI;X-ADDRESS=8-10 Tamaki Drive Okahu Bay Auckland 1071 New Zealand;X-APPLE-RADIUS=500;X-TITLE=8-10 Tamaki Drive:geo:174.8142727,-36.8527178
CATEGORIES:18' Skiffs,Fleets
ATTACH;FMTTYPE=image/jpeg:https://rayc.co.nz/wp-content/uploads/2011/11/18skiffs.jpg
END:VEVENT
BEGIN:VEVENT
DTSTART;TZID=Pacific/Auckland:20180122T083000
DTEND;TZID=Pacific/Auckland:20180126T170000
DTSTAMP:20180123T024115
CREATED:20171127T010506Z
LAST-MODIFIED:20171127T010506Z
UID:24435-1516609800-1516986000@rayc.co.nz
SUMMARY:School Holiday Program
DESCRIPTION:What are your kids doing these school holidays?\nGet them out of the house – and put them on a boat!\nRoyal Akarana Yacht Club offers school holiday programs where kids are able to spend a whole day or multiple days trying out engaging water-based activities. \nThese holiday programs are run as “Sail & Play” style events. This means that half the day is spent sailing while the other half is dedicated to other water-based activities. \n
URL:https://rayc.co.nz/event/school-holiday-program-6/
LOCATION:8-10 Tamaki Drive\, Okahu Bay\, Auckland\, 1071\, New Zealand
GEO:-36.8527178;174.8142727
X-APPLE-STRUCTURED-LOCATION;VALUE=URI;X-ADDRESS=8-10 Tamaki Drive Okahu Bay Auckland 1071 New Zealand;X-APPLE-RADIUS=500;X-TITLE=8-10 Tamaki Drive:geo:174.8142727,-36.8527178
CATEGORIES:Holiday Program,Sailing Academy
ATTACH;FMTTYPE=image/jpeg:https://rayc.co.nz/wp-content/uploads/2017/11/schoolholiday500x500.jpg
END:VEVENT
BEGIN:VEVENT
DTSTART;TZID=Pacific/Auckland:20180122T083000
DTEND;TZID=Pacific/Auckland:20180126T170000
DTSTAMP:20180123T024115
CREATED:20171127T011130Z
LAST-MODIFIED:20171127T023433Z
UID:24440-1516609800-1516986000@rayc.co.nz
SUMMARY:Opti Level 2 - Fast Track
DESCRIPTION:Fast track your way through the Optimist courses\nThe Optimist Fast Track program means you complete an entire level condensed into five days of training. \nRun during the school holidays\, this fast tracked course will give students the chance to progress faster. \nThe five day intensive course must be booked and paid in advance. There are no day options available for the course. \n
URL:https://rayc.co.nz/event/opti-level-2-fast-track-january17/
LOCATION:8-10 Tamaki Drive\, Okahu Bay\, Auckland\, 1071\, New Zealand
GEO:-36.8527178;174.8142727
X-APPLE-STRUCTURED-LOCATION;VALUE=URI;X-ADDRESS=8-10 Tamaki Drive Okahu Bay Auckland 1071 New Zealand;X-APPLE-RADIUS=500;X-TITLE=8-10 Tamaki Drive:geo:174.8142727,-36.8527178
CATEGORIES:Opti Fast Track,Sailing Academy
ATTACH;FMTTYPE=image/jpeg:https://rayc.co.nz/wp-content/uploads/2017/11/optilevel2fasttrack500x500.jpg
END:VEVENT
BEGIN:VEVENT
DTSTART;VALUE=DATE:20180127
DTEND;VALUE=DATE:20180128
DTSTAMP:20180123T024115
CREATED:20170703T134520Z
LAST-MODIFIED:20170905T050050Z
UID:21813-1517011200-1517097599@rayc.co.nz
SUMMARY:Cruising Series
DESCRIPTION:The RAYC Cruising Series is a laid back series of yacht races for sailors of all abilities that explore the best overnight anchorages in Hauraki Gulf. \nFor those new to sailing or racing there’s always plenty of support and advice to keep you headed in the right direction. \n.fusion-button.button-4 .fusion-button-text\, .fusion-button.button-4 i {color:#105378;}.fusion-button.button-4 {border-width:1px;border-color:#105378;}.fusion-button.button-4 .fusion-button-icon-divider{border-color:#105378;}.fusion-button.button-4:hover .fusion-button-text\, .fusion-button.button-4:hover i\,.fusion-button.button-4:focus .fusion-button-text\, .fusion-button.button-4:focus i\,.fusion-button.button-4:active .fusion-button-text\, .fusion-button.button-4:active{color:#105378;}.fusion-button.button-4:hover\, .fusion-button.button-4:focus\, .fusion-button.button-4:active{border-width:1px;border-color:#105378;}.fusion-button.button-4:hover .fusion-button-icon-divider\, .fusion-button.button-4:hover .fusion-button-icon-divider\, .fusion-button.button-4:active .fusion-button-icon-divider{border-color:#105378;}.fusion-button.button-4{width:auto;}Learn More\n
URL:https://rayc.co.nz/event/cruising-series/2018-01-27/
LOCATION:8-10 Tamaki Drive\, Okahu Bay\, Auckland\, 1071\, New Zealand
GEO:-36.8527178;174.8142727
X-APPLE-STRUCTURED-LOCATION;VALUE=URI;X-ADDRESS=8-10 Tamaki Drive Okahu Bay Auckland 1071 New Zealand;X-APPLE-RADIUS=500;X-TITLE=8-10 Tamaki Drive:geo:174.8142727,-36.8527178
CATEGORIES:Cruising
ATTACH;FMTTYPE=image/jpeg:https://rayc.co.nz/wp-content/uploads/2016/06/cruising500x500-1.jpg
END:VEVENT
BEGIN:VEVENT
DTSTART;VALUE=DATE:20180203
DTEND;VALUE=DATE:20180205
DTSTAMP:20180123T024115
CREATED:20171211T193807Z
LAST-MODIFIED:20171211T193807Z
UID:24945-1517616000-1517788799@rayc.co.nz
SUMMARY:18' Skiff Nationals
DESCRIPTION:
URL:https://rayc.co.nz/event/18-skiff-nationals-2/
LOCATION:8-10 Tamaki Drive\, Okahu Bay\, Auckland\, 1071\, New Zealand
GEO:-36.8527178;174.8142727
X-APPLE-STRUCTURED-LOCATION;VALUE=URI;X-ADDRESS=8-10 Tamaki Drive Okahu Bay Auckland 1071 New Zealand;X-APPLE-RADIUS=500;X-TITLE=8-10 Tamaki Drive:geo:174.8142727,-36.8527178
CATEGORIES:18' Skiffs,Fleets
ATTACH;FMTTYPE=image/jpeg:https://rayc.co.nz/wp-content/uploads/2016/06/18nats500x500.jpg
END:VEVENT
END:VCALENDAR